Package: rTRM Version: 1.48.0 Command: /home/biocbuild/bbs-3.22-bioc/R/bin/R CMD check --install=check:rTRM.install-out.txt --library=/home/biocbuild/bbs-3.22-bioc/R/site-library --timings rTRM_1.48.0.tar.gz StartedAt: 2025-11-21 04:08:04 -0500 (Fri, 21 Nov 2025) EndedAt: 2025-11-21 04:10:17 -0500 (Fri, 21 Nov 2025) EllapsedTime: 133.1 seconds RetCode: 0 Status: OK CheckDir: rTRM.Rcheck Warnings: 0