Package: rTRM Version: 1.48.0 Command: /Library/Frameworks/R.framework/Resources/bin/R CMD check --install=check:rTRM.install-out.txt --library=/Library/Frameworks/R.framework/Resources/library --no-vignettes --timings rTRM_1.48.0.tar.gz StartedAt: 2025-11-18 13:32:52 -0500 (Tue, 18 Nov 2025) EndedAt: 2025-11-18 13:40:20 -0500 (Tue, 18 Nov 2025) EllapsedTime: 447.9 seconds RetCode: 0 Status: OK CheckDir: rTRM.Rcheck Warnings: 0