Package: rTRM Version: 1.48.0 Command: /Library/Frameworks/R.framework/Resources/bin/R CMD build --keep-empty-dirs --no-resave-data rTRM StartedAt: 2025-11-18 01:46:34 -0500 (Tue, 18 Nov 2025) EndedAt: 2025-11-18 01:48:24 -0500 (Tue, 18 Nov 2025) EllapsedTime: 109.6 seconds RetCode: 0 Status: OK PackageFile: rTRM_1.48.0.tar.gz PackageFileSize: 3.555 MiB