Package: rSWeeP Version: 1.22.0 Command: /home/biocbuild/bbs-3.22-bioc/R/bin/R CMD build --keep-empty-dirs --no-resave-data --md5 rSWeeP StartedAt: 2025-11-06 19:44:44 -0500 (Thu, 06 Nov 2025) EndedAt: 2025-11-06 19:45:08 -0500 (Thu, 06 Nov 2025) EllapsedTime: 24.0 seconds RetCode: 0 Status: OK PackageFile: rSWeeP_1.22.0.tar.gz PackageFileSize: 420.9 KiB