Package: rGADEM Version: 2.56.0 Command: /Library/Frameworks/R.framework/Resources/bin/R CMD check --install=check:rGADEM.install-out.txt --library=/Library/Frameworks/R.framework/Resources/library --no-vignettes --timings rGADEM_2.56.0.tar.gz StartedAt: 2025-10-14 09:08:36 -0400 (Tue, 14 Oct 2025) EndedAt: 2025-10-14 09:15:50 -0400 (Tue, 14 Oct 2025) EllapsedTime: 434.1 seconds RetCode: 1 Status: ERROR CheckDir: rGADEM.Rcheck Warnings: NA