Package: rCGH Version: 1.40.0 Command: /home/biocbuild/R/R/bin/R CMD check --install=check:rCGH.install-out.txt --library=/home/biocbuild/R/R/site-library --no-vignettes --timings rCGH_1.40.0.tar.gz StartedAt: 2025-11-21 14:42:48 -0000 (Fri, 21 Nov 2025) EndedAt: 2025-11-21 14:51:35 -0000 (Fri, 21 Nov 2025) EllapsedTime: 526.8 seconds RetCode: 0 Status: OK CheckDir: rCGH.Rcheck Warnings: 0