Package: rCGH Version: 1.39.1 Command: F:\biocbuild\bbs-3.22-bioc\R\bin\R.exe CMD INSTALL rCGH StartedAt: 2025-08-14 17:06:28 -0400 (Thu, 14 Aug 2025) EndedAt: 2025-08-14 17:07:38 -0400 (Thu, 14 Aug 2025) EllapsedTime: 69.9 seconds RetCode: 0 Status: OK