Package: rCGH Version: 1.39.1 Command: rm -rf rCGH.buildbin-libdir && mkdir rCGH.buildbin-libdir && F:\biocbuild\bbs-3.22-bioc\R\bin\R.exe CMD INSTALL --build --library=rCGH.buildbin-libdir rCGH_1.39.1.tar.gz StartedAt: 2025-08-15 11:04:16 -0400 (Fri, 15 Aug 2025) EndedAt: 2025-08-15 11:05:40 -0400 (Fri, 15 Aug 2025) EllapsedTime: 84.2 seconds RetCode: 0 Status: OK PackageFile: rCGH_1.39.1.zip PackageFileSize: 4.777 MiB