Package: rBLAST Version: 1.4.0 Command: /Library/Frameworks/R.framework/Resources/bin/R CMD build --keep-empty-dirs --no-resave-data rBLAST StartedAt: 2025-04-21 18:05:24 -0400 (Mon, 21 Apr 2025) EndedAt: 2025-04-21 18:05:43 -0400 (Mon, 21 Apr 2025) EllapsedTime: 19.5 seconds RetCode: 0 Status: OK PackageFile: rBLAST_1.4.0.tar.gz PackageFileSize: 24.76 KiB