Package: rBLAST Version: 1.4.0 Command: /Library/Frameworks/R.framework/Resources/bin/R CMD INSTALL rBLAST StartedAt: 2025-10-13 15:43:06 -0400 (Mon, 13 Oct 2025) EndedAt: 2025-10-13 15:43:17 -0400 (Mon, 13 Oct 2025) EllapsedTime: 11.2 seconds RetCode: 0 Status: OK