Package: rBLAST Version: 1.4.0 Command: /Library/Frameworks/R.framework/Resources/bin/R CMD check --install=check:rBLAST.install-out.txt --library=/Library/Frameworks/R.framework/Resources/library --no-vignettes --timings rBLAST_1.4.0.tar.gz StartedAt: 2025-10-15 08:58:44 -0400 (Wed, 15 Oct 2025) EndedAt: 2025-10-15 09:00:10 -0400 (Wed, 15 Oct 2025) EllapsedTime: 85.7 seconds RetCode: 0 Status: OK CheckDir: rBLAST.Rcheck Warnings: 0