Package: qvalue Version: 2.40.0 Command: rm -rf qvalue.buildbin-libdir && mkdir qvalue.buildbin-libdir && E:\biocbuild\bbs-3.21-bioc\R\bin\R.exe CMD INSTALL --build --library=qvalue.buildbin-libdir qvalue_2.40.0.tar.gz StartedAt: 2025-08-15 10:01:38 -0400 (Fri, 15 Aug 2025) EndedAt: 2025-08-15 10:01:50 -0400 (Fri, 15 Aug 2025) EllapsedTime: 12.3 seconds RetCode: 0 Status: OK PackageFile: qvalue_2.40.0.zip PackageFileSize: 2.681 MiB