Package: qvalue Version: 2.40.0 Command: rm -rf qvalue.buildbin-libdir && mkdir qvalue.buildbin-libdir && /Users/biocbuild/BBS/utils/build-universal.sh qvalue_2.40.0.tar.gz /Library/Frameworks/R.framework/Resources/bin/R qvalue.buildbin-libdir StartedAt: 2025-10-14 14:28:06 -0400 (Tue, 14 Oct 2025) EndedAt: 2025-10-14 14:28:23 -0400 (Tue, 14 Oct 2025) EllapsedTime: 16.4 seconds RetCode: 0 Status: OK PackageFile: qvalue_2.40.0.tgz PackageFileSize: 2.682 MiB