Package: qvalue Version: 2.40.0 Command: /Library/Frameworks/R.framework/Resources/bin/R CMD INSTALL qvalue StartedAt: 2025-10-13 15:20:32 -0400 (Mon, 13 Oct 2025) EndedAt: 2025-10-13 15:20:38 -0400 (Mon, 13 Oct 2025) EllapsedTime: 6.7 seconds RetCode: 0 Status: OK