Package: qusage Version: 2.44.0 Command: /home/biocbuild/bbs-3.22-bioc/R/bin/R CMD check --install=check:qusage.install-out.txt --library=/home/biocbuild/bbs-3.22-bioc/R/site-library --timings qusage_2.44.0.tar.gz StartedAt: 2025-11-07 03:00:05 -0500 (Fri, 07 Nov 2025) EndedAt: 2025-11-07 03:06:12 -0500 (Fri, 07 Nov 2025) EllapsedTime: 367.5 seconds RetCode: 0 Status: OK CheckDir: qusage.Rcheck Warnings: 0