Package: quantsmooth Version: 1.74.0 Command: /Library/Frameworks/R.framework/Resources/bin/R CMD build --keep-empty-dirs --no-resave-data quantsmooth StartedAt: 2025-09-26 06:57:22 -0400 (Fri, 26 Sep 2025) EndedAt: 2025-09-26 06:57:39 -0400 (Fri, 26 Sep 2025) EllapsedTime: 16.9 seconds RetCode: 0 Status: OK PackageFile: quantsmooth_1.74.0.tar.gz PackageFileSize: 338.4 KiB