Package: quantro Version: 1.44.0 Command: /home/biocbuild/R/R/bin/R CMD INSTALL quantro StartedAt: 2025-11-17 21:53:18 -0000 (Mon, 17 Nov 2025) EndedAt: 2025-11-17 21:54:23 -0000 (Mon, 17 Nov 2025) EllapsedTime: 64.8 seconds RetCode: 0 Status: OK