Package: quantro Version: 1.44.0 Command: /home/biocbuild/R/R/bin/R CMD build --keep-empty-dirs --no-resave-data quantro StartedAt: 2025-11-18 04:13:46 -0000 (Tue, 18 Nov 2025) EndedAt: 2025-11-18 04:16:24 -0000 (Tue, 18 Nov 2025) EllapsedTime: 158.1 seconds RetCode: 0 Status: OK PackageFile: quantro_1.44.0.tar.gz PackageFileSize: 2.638 MiB