Package: quantiseqr Version: 1.16.0 Command: /Library/Frameworks/R.framework/Resources/bin/R CMD build --keep-empty-dirs --no-resave-data quantiseqr StartedAt: 2025-10-13 21:46:52 -0400 (Mon, 13 Oct 2025) EndedAt: 2025-10-13 21:49:22 -0400 (Mon, 13 Oct 2025) EllapsedTime: 149.9 seconds RetCode: 0 Status: OK PackageFile: quantiseqr_1.16.0.tar.gz PackageFileSize: 3.611 MiB