Package: quantiseqr Version: 1.16.0 Command: rm -rf quantiseqr.buildbin-libdir && mkdir quantiseqr.buildbin-libdir && /Users/biocbuild/BBS/utils/build-universal.sh quantiseqr_1.16.0.tar.gz /Library/Frameworks/R.framework/Resources/bin/R quantiseqr.buildbin-libdir StartedAt: 2025-10-14 14:27:43 -0400 (Tue, 14 Oct 2025) EndedAt: 2025-10-14 14:28:50 -0400 (Tue, 14 Oct 2025) EllapsedTime: 67.1 seconds RetCode: 0 Status: OK PackageFile: quantiseqr_1.16.0.tgz PackageFileSize: 3.566 MiB