Package: qsvaR Version: 1.13.3 Command: /home/biocbuild/R/R/bin/R CMD check --install=check:qsvaR.install-out.txt --library=/home/biocbuild/R/R/site-library --no-vignettes --timings qsvaR_1.13.3.tar.gz StartedAt: 2025-10-17 12:29:58 -0000 (Fri, 17 Oct 2025) EndedAt: 2025-10-17 12:34:58 -0000 (Fri, 17 Oct 2025) EllapsedTime: 300.3 seconds RetCode: 0 Status: OK CheckDir: qsvaR.Rcheck Warnings: 0