Package: qsvaR Version: 1.14.0 Command: /home/biocbuild/R/R/bin/R CMD build --keep-empty-dirs --no-resave-data qsvaR StartedAt: 2025-11-14 04:23:36 -0000 (Fri, 14 Nov 2025) EndedAt: 2025-11-14 04:24:37 -0000 (Fri, 14 Nov 2025) EllapsedTime: 61.0 seconds RetCode: 1 Status: ERROR PackageFile: None PackageFileSize: NA