Package: qsvaR Version: 1.13.1 Command: rm -rf qsvaR.buildbin-libdir && mkdir qsvaR.buildbin-libdir && F:\biocbuild\bbs-3.22-bioc\R\bin\R.exe CMD INSTALL --build --library=qsvaR.buildbin-libdir qsvaR_1.13.1.tar.gz StartedAt: 2025-08-15 11:01:49 -0400 (Fri, 15 Aug 2025) EndedAt: 2025-08-15 11:02:26 -0400 (Fri, 15 Aug 2025) EllapsedTime: 36.8 seconds RetCode: 0 Status: OK PackageFile: qsvaR_1.13.1.zip PackageFileSize: 3.754 MiB