Package: qsvaR Version: 1.14.0 Command: /home/biocbuild/bbs-3.22-bioc/R/bin/R CMD INSTALL qsvaR StartedAt: 2025-11-14 15:31:13 -0500 (Fri, 14 Nov 2025) EndedAt: 2025-11-14 15:31:43 -0500 (Fri, 14 Nov 2025) EllapsedTime: 30.5 seconds RetCode: 0 Status: OK