Package: qsvaR Version: 1.14.0 Command: /home/biocbuild/bbs-3.22-bioc/R/bin/R CMD check --install=check:qsvaR.install-out.txt --library=/home/biocbuild/bbs-3.22-bioc/R/site-library --timings qsvaR_1.14.0.tar.gz StartedAt: 2025-11-15 03:18:24 -0500 (Sat, 15 Nov 2025) EndedAt: 2025-11-15 03:28:56 -0500 (Sat, 15 Nov 2025) EllapsedTime: 631.9 seconds RetCode: 0 Status: OK CheckDir: qsvaR.Rcheck Warnings: 0