Package: qsvaR Version: 1.14.0 Command: /home/biocbuild/bbs-3.22-bioc/R/bin/R CMD build --keep-empty-dirs --no-resave-data --md5 qsvaR StartedAt: 2025-11-14 19:34:18 -0500 (Fri, 14 Nov 2025) EndedAt: 2025-11-14 19:41:02 -0500 (Fri, 14 Nov 2025) EllapsedTime: 403.4 seconds RetCode: 0 Status: OK PackageFile: qsvaR_1.14.0.tar.gz PackageFileSize: 3.351 MiB