Package: qsvaR Version: 1.12.0 Command: /Library/Frameworks/R.framework/Resources/bin/R CMD check --install=check:qsvaR.install-out.txt --library=/Library/Frameworks/R.framework/Resources/library --no-vignettes --timings qsvaR_1.12.0.tar.gz StartedAt: 2025-09-27 07:55:43 -0400 (Sat, 27 Sep 2025) EndedAt: 2025-09-27 08:00:30 -0400 (Sat, 27 Sep 2025) EllapsedTime: 287.2 seconds RetCode: 1 Status: ERROR CheckDir: qsvaR.Rcheck Warnings: NA