Package: qsea Version: 1.35.1 Command: /home/biocbuild/R/R/bin/R CMD check --install=check:qsea.install-out.txt --library=/home/biocbuild/R/R/site-library --no-vignettes --timings qsea_1.35.1.tar.gz StartedAt: 2025-10-17 12:29:32 -0000 (Fri, 17 Oct 2025) EndedAt: 2025-10-17 12:35:16 -0000 (Fri, 17 Oct 2025) EllapsedTime: 343.4 seconds RetCode: 0 Status: WARNINGS CheckDir: qsea.Rcheck Warnings: 1