Package: qsea Version: 1.35.1 Command: /home/biocbuild/R/R/bin/R CMD build --keep-empty-dirs --no-resave-data qsea StartedAt: 2025-10-21 02:14:03 -0000 (Tue, 21 Oct 2025) EndedAt: 2025-10-21 02:15:17 -0000 (Tue, 21 Oct 2025) EllapsedTime: 74.0 seconds RetCode: 0 Status: OK PackageFile: qsea_1.35.1.tar.gz PackageFileSize: 676.7 KiB