Package: qsea Version: 1.34.0 Command: /home/biocbuild/bbs-3.21-bioc/R/bin/R CMD INSTALL qsea StartedAt: 2025-10-08 15:27:48 -0400 (Wed, 08 Oct 2025) EndedAt: 2025-10-08 15:28:21 -0400 (Wed, 08 Oct 2025) EllapsedTime: 32.5 seconds RetCode: 0 Status: OK