Package: qsea Version: 1.34.0 Command: /home/biocbuild/bbs-3.21-bioc/R/bin/R CMD build --keep-empty-dirs --no-resave-data qsea StartedAt: 2025-10-08 19:16:26 -0400 (Wed, 08 Oct 2025) EndedAt: 2025-10-08 19:17:37 -0400 (Wed, 08 Oct 2025) EllapsedTime: 71.1 seconds RetCode: 0 Status: OK PackageFile: qsea_1.34.0.tar.gz PackageFileSize: 859.5 KiB