Package: qpcrNorm Version: 1.66.0 Command: /Library/Frameworks/R.framework/Resources/bin/R CMD check --install=check:qpcrNorm.install-out.txt --library=/Library/Frameworks/R.framework/Resources/library --no-vignettes --timings qpcrNorm_1.66.0.tar.gz StartedAt: 2025-10-14 08:38:55 -0400 (Tue, 14 Oct 2025) EndedAt: 2025-10-14 08:40:27 -0400 (Tue, 14 Oct 2025) EllapsedTime: 92.6 seconds RetCode: 0 Status: OK CheckDir: qpcrNorm.Rcheck Warnings: 0