Package: qpcrNorm Version: 1.66.0 Command: rm -rf qpcrNorm.buildbin-libdir && mkdir qpcrNorm.buildbin-libdir && /Users/biocbuild/BBS/utils/build-universal.sh qpcrNorm_1.66.0.tar.gz /Library/Frameworks/R.framework/Resources/bin/R qpcrNorm.buildbin-libdir StartedAt: 2025-10-14 14:27:13 -0400 (Tue, 14 Oct 2025) EndedAt: 2025-10-14 14:27:26 -0400 (Tue, 14 Oct 2025) EllapsedTime: 13.1 seconds RetCode: 0 Status: OK PackageFile: qpcrNorm_1.66.0.tgz PackageFileSize: 598.8 KiB