Package: qpcrNorm Version: 1.66.0 Command: /Library/Frameworks/R.framework/Resources/bin/R CMD INSTALL qpcrNorm StartedAt: 2025-04-21 15:13:05 -0400 (Mon, 21 Apr 2025) EndedAt: 2025-04-21 15:13:20 -0400 (Mon, 21 Apr 2025) EllapsedTime: 15.2 seconds RetCode: 0 Status: OK