Package: qpcrNorm Version: 1.66.0 Command: /home/biocbuild/R/R/bin/R CMD build --keep-empty-dirs --no-resave-data qpcrNorm StartedAt: 2025-10-14 03:45:31 -0000 (Tue, 14 Oct 2025) EndedAt: 2025-10-14 03:45:42 -0000 (Tue, 14 Oct 2025) EllapsedTime: 11.0 seconds RetCode: 0 Status: OK PackageFile: qpcrNorm_1.66.0.tar.gz PackageFileSize: 544.5 KiB