Package: qpcrNorm Version: 1.66.0 Command: /Library/Frameworks/R.framework/Resources/bin/R CMD INSTALL qpcrNorm StartedAt: 2025-10-13 15:36:57 -0400 (Mon, 13 Oct 2025) EndedAt: 2025-10-13 15:37:02 -0400 (Mon, 13 Oct 2025) EllapsedTime: 4.8 seconds RetCode: 0 Status: OK