Package: qpcrNorm Version: 1.66.0 Command: /Library/Frameworks/R.framework/Resources/bin/R CMD build --keep-empty-dirs --no-resave-data qpcrNorm StartedAt: 2025-10-14 07:05:10 -0400 (Tue, 14 Oct 2025) EndedAt: 2025-10-14 07:05:25 -0400 (Tue, 14 Oct 2025) EllapsedTime: 14.8 seconds RetCode: 0 Status: OK PackageFile: qpcrNorm_1.66.0.tar.gz PackageFileSize: 549.4 KiB