Package: qpcrNorm Version: 1.66.0 Command: rm -rf qpcrNorm.buildbin-libdir && mkdir qpcrNorm.buildbin-libdir && /Users/biocbuild/BBS/utils/build-universal.sh qpcrNorm_1.66.0.tar.gz /Library/Frameworks/R.framework/Resources/bin/R qpcrNorm.buildbin-libdir StartedAt: 2025-10-15 19:54:56 -0400 (Wed, 15 Oct 2025) EndedAt: 2025-10-15 19:55:03 -0400 (Wed, 15 Oct 2025) EllapsedTime: 6.6 seconds RetCode: 0 Status: OK PackageFile: qpcrNorm_1.66.0.tgz PackageFileSize: 599.1 KiB