Package: qpcrNorm Version: 1.66.0 Maintainer: Jessica Mar MaintainerEmail: jess at jimmy.harvard.edu git_url: https://git.bioconductor.org/packages/qpcrNorm git_branch: RELEASE_3_21 git_last_commit: a5fa0f4 git_last_commit_date: 2025-04-15 09:44:34 -0400 (Tue, 15 Apr 2025)