Package: qckitfastq Version: 1.24.0 Command: /Library/Frameworks/R.framework/Resources/bin/R CMD INSTALL qckitfastq StartedAt: 2025-10-13 15:32:19 -0400 (Mon, 13 Oct 2025) EndedAt: 2025-10-13 15:32:38 -0400 (Mon, 13 Oct 2025) EllapsedTime: 19.1 seconds RetCode: 0 Status: OK