Package: qPLEXanalyzer Version: 1.26.0 Command: E:\biocbuild\bbs-3.21-bioc\R\bin\R.exe CMD INSTALL qPLEXanalyzer StartedAt: 2025-08-14 16:16:37 -0400 (Thu, 14 Aug 2025) EndedAt: 2025-08-14 16:17:54 -0400 (Thu, 14 Aug 2025) EllapsedTime: 77.6 seconds RetCode: 0 Status: OK