Package: pvca Version: 1.50.0 Command: /home/biocbuild/R/R/bin/R CMD check --install=check:pvca.install-out.txt --library=/home/biocbuild/R/R/site-library --no-vignettes --timings pvca_1.50.0.tar.gz StartedAt: 2025-11-14 13:15:20 -0000 (Fri, 14 Nov 2025) EndedAt: 2025-11-14 13:17:10 -0000 (Fri, 14 Nov 2025) EllapsedTime: 110.1 seconds RetCode: 0 Status: OK CheckDir: pvca.Rcheck Warnings: 0