Package: pvca Version: 1.50.0 Command: /home/biocbuild/bbs-3.22-bioc/R/bin/R CMD INSTALL pvca StartedAt: 2025-11-14 15:14:17 -0500 (Fri, 14 Nov 2025) EndedAt: 2025-11-14 15:14:27 -0500 (Fri, 14 Nov 2025) EllapsedTime: 9.9 seconds RetCode: 0 Status: OK