Package: pvca Version: 1.50.0 Command: /home/biocbuild/bbs-3.22-bioc/R/bin/R CMD check --install=check:pvca.install-out.txt --library=/home/biocbuild/bbs-3.22-bioc/R/site-library --timings pvca_1.50.0.tar.gz StartedAt: 2025-11-15 03:15:40 -0500 (Sat, 15 Nov 2025) EndedAt: 2025-11-15 03:17:03 -0500 (Sat, 15 Nov 2025) EllapsedTime: 83.1 seconds RetCode: 0 Status: OK CheckDir: pvca.Rcheck Warnings: 0