Package: pvac Version: 1.56.0 Command: E:\biocbuild\bbs-3.21-bioc\R\bin\R.exe CMD check --no-multiarch --install=check:pvac.install-out.txt --library=E:\biocbuild\bbs-3.21-bioc\R\library --no-vignettes --timings pvac_1.56.0.tar.gz StartedAt: 2025-08-15 05:41:31 -0400 (Fri, 15 Aug 2025) EndedAt: 2025-08-15 05:42:23 -0400 (Fri, 15 Aug 2025) EllapsedTime: 52.0 seconds RetCode: 0 Status: OK CheckDir: pvac.Rcheck Warnings: 0