Package: pvac Version: 1.56.0 Command: chmod a+r pvac -R && E:\biocbuild\bbs-3.21-bioc\R\bin\R.exe CMD build --keep-empty-dirs --no-resave-data pvac StartedAt: 2025-08-14 21:27:59 -0400 (Thu, 14 Aug 2025) EndedAt: 2025-08-14 21:28:56 -0400 (Thu, 14 Aug 2025) EllapsedTime: 57.1 seconds RetCode: 0 Status: OK PackageFile: pvac_1.56.0.tar.gz PackageFileSize: 129 KiB