Package: pvac Version: 1.58.0 Command: /Library/Frameworks/R.framework/Resources/bin/R CMD INSTALL pvac StartedAt: 2025-10-30 15:06:52 -0400 (Thu, 30 Oct 2025) EndedAt: 2025-10-30 15:06:54 -0400 (Thu, 30 Oct 2025) EllapsedTime: 2.0 seconds RetCode: 0 Status: OK