Package: pvac Version: 1.58.0 Command: /Library/Frameworks/R.framework/Resources/bin/R CMD build --keep-empty-dirs --no-resave-data pvac StartedAt: 2025-10-30 17:24:41 -0400 (Thu, 30 Oct 2025) EndedAt: 2025-10-30 17:24:58 -0400 (Thu, 30 Oct 2025) EllapsedTime: 17.2 seconds RetCode: 0 Status: OK PackageFile: pvac_1.58.0.tar.gz PackageFileSize: 258.2 KiB