Package: pvac Version: 1.58.0 Command: rm -rf pvac.buildbin-libdir && mkdir pvac.buildbin-libdir && /Users/biocbuild/BBS/utils/build-universal.sh pvac_1.58.0.tar.gz /Library/Frameworks/R.framework/Resources/bin/R pvac.buildbin-libdir StartedAt: 2025-10-31 23:19:01 -0400 (Fri, 31 Oct 2025) EndedAt: 2025-10-31 23:19:03 -0400 (Fri, 31 Oct 2025) EllapsedTime: 2.0 seconds RetCode: 0 Status: OK PackageFile: pvac_1.58.0.tgz PackageFileSize: 254.1 KiB