Package: puma Version: 3.50.0 Command: /home/biocbuild/R/R/bin/R CMD INSTALL puma StartedAt: 2025-10-09 20:34:00 -0000 (Thu, 09 Oct 2025) EndedAt: 2025-10-09 20:35:02 -0000 (Thu, 09 Oct 2025) EllapsedTime: 61.7 seconds RetCode: 0 Status: OK